BEGIN:VCALENDAR
VERSION:2.0
PRODID:-//BPD Academy//EN
CALSCALE:GREGORIAN
X-WR-CALNAME:BPD Academy
BEGIN:VEVENT
UID:bpdsd-27@academy.brightpresencedigital.com
DTSTAMP:20260423T122302Z
DTSTART:20260423T163000Z
SUMMARY:Varsity Baseball vs. Episcopal Lower
LOCATION:Beacon Field
END:VEVENT
BEGIN:VEVENT
UID:bpdsd-26@academy.brightpresencedigital.com
DTSTAMP:20260423T122302Z
DTSTART:20260425T190000Z
SUMMARY:Board of Trustees Meeting
LOCATION:Heritage Hall Boardroom
END:VEVENT
BEGIN:VEVENT
UID:bpdsd-28@academy.brightpresencedigital.com
DTSTAMP:20260423T122302Z
DTSTART:20260427T183000Z
SUMMARY:Lower School Spring Concert
LOCATION:Arts & Innovation Center
END:VEVENT
BEGIN:VEVENT
UID:bpdsd-29@academy.brightpresencedigital.com
DTSTAMP:20260423T122302Z
DTSTART:20260429T093000Z
SUMMARY:Admissions Open House (PK–4)
LOCATION:Lower School Wing
END:VEVENT
BEGIN:VEVENT
UID:bpdsd-30@academy.brightpresencedigital.com
DTSTAMP:20260423T122302Z
DTSTART:20260501T000000Z
SUMMARY:Faculty Professional Day — No Classes
LOCATION:Campus
END:VEVENT
BEGIN:VEVENT
UID:bpdsd-31@academy.brightpresencedigital.com
DTSTAMP:20260423T122302Z
DTSTART:20260503T190000Z
SUMMARY:Upper School Musical: Into the Woods
LOCATION:Arts & Innovation Center
END:VEVENT
BEGIN:VEVENT
UID:bpdsd-32@academy.brightpresencedigital.com
DTSTAMP:20260423T122302Z
DTSTART:20260505T170000Z
SUMMARY:Girls Lacrosse vs. Kiski
LOCATION:Beacon Field
END:VEVENT
BEGIN:VEVENT
UID:bpdsd-33@academy.brightpresencedigital.com
DTSTAMP:20260423T122302Z
DTSTART:20260507T183000Z
SUMMARY:Annual Fund Leadership Reception
LOCATION:Head of School Residence
END:VEVENT
BEGIN:VEVENT
UID:bpdsd-34@academy.brightpresencedigital.com
DTSTAMP:20260423T122302Z
DTSTART:20260509T170000Z
SUMMARY:Middle School Arts Showcase
LOCATION:Middle School Commons
END:VEVENT
BEGIN:VEVENT
UID:bpdsd-35@academy.brightpresencedigital.com
DTSTAMP:20260423T122302Z
DTSTART:20260511T160000Z
SUMMARY:Varsity Track Invitational
LOCATION:Beacon Track
END:VEVENT
BEGIN:VEVENT
UID:bpdsd-36@academy.brightpresencedigital.com
DTSTAMP:20260423T122302Z
DTSTART:20260517T000000Z
SUMMARY:Memorial Day — Campus Closed
LOCATION:Campus
END:VEVENT
BEGIN:VEVENT
UID:bpdsd-37@academy.brightpresencedigital.com
DTSTAMP:20260423T122302Z
DTSTART:20260521T190000Z
SUMMARY:Senior Awards Chapel
LOCATION:Arts & Innovation Center
END:VEVENT
BEGIN:VEVENT
UID:bpdsd-38@academy.brightpresencedigital.com
DTSTAMP:20260423T122302Z
DTSTART:20260524T190000Z
SUMMARY:Board of Trustees Meeting
LOCATION:Heritage Hall Boardroom
END:VEVENT
END:VCALENDAR